BEGIN:VCALENDAR
VERSION:2.0
PRODID:-//ChamberMaster//Event Calendar 2.0//EN
METHOD:PUBLISH
X-PUBLISHED-TTL:P3D
REFRESH-INTERVAL:P3D
CALSCALE:GREGORIAN
BEGIN:VEVENT
DTSTART:20180901T160000Z
DTEND:20181012T160000Z
X-MICROSOFT-CDO-ALLDAYEVENT:FALSE
SUMMARY:Write@Your Library Teen Creative Writing Contest
DESCRIPTION:Write@ Your Library Teen Creative Writing Contest. Save your best short Stories and poems to enter the annual Grey Bruce County Libraries contest for Juniors (grades 7-9) and Senior (grades 10-12) categories\, This youth focused writing contest run with Bruce County and Grey County libraries will begin in September. Stop in at a local library branch for more information.
X-ALT-DESC;FMTTYPE=text/html:Write@ Your Library Teen Creative Writing Contest. Save your best short Stories and poems to enter the annual Grey Bruce County Libraries contest for Juniors (grades 7-9) and Senior (grades 10-12) categories\, This youth focused writing contest run with Bruce County and Grey County libraries will begin in September. Stop in at a local library branch for more information.
LOCATION:Bruce County and Grey County libraries
UID:e.2689.17619
SEQUENCE:3
DTSTAMP:20260420T163755Z
URL:https://www.saugeenshoreschamber.ca/events/details/write-your-library-teen-creative-writing-contest-17619
END:VEVENT

END:VCALENDAR
